BEGIN:VCALENDAR
METHOD:PUBLISH
VERSION:2.0
PRODID:-//WoltLab GmbH//WoltLab Suite Calendar 5.4//EN
CALSCALE:GREGORIAN
X-WR-CALNAME;VALUE=TEXT:Map Clear: Grasgrüne Schwelle
BEGIN:VEVENT
TRANSP:OPAQUE
UID:event-6193@gw2community.de
URL:https://gw2community.de/calendar/event/30565-map-clear-grasgr%C3%BCne-s
 chwelle/
DTSTART:20240724T140000Z
DTSTAMP:20240724T140000Z
CREATED:20240724T140000Z
SUMMARY:Map Clear: Grasgrüne Schwelle
DTEND:20240724T160000Z
END:VEVENT
END:VCALENDAR
