BEGIN:VCALENDAR
METHOD:PUBLISH
VERSION:2.0
PRODID:-//WoltLab GmbH//WoltLab Suite Calendar 5.4//EN
CALSCALE:GREGORIAN
X-WR-CALNAME;VALUE=TEXT:Inneres Nayos - Full Meta Run
BEGIN:VEVENT
TRANSP:OPAQUE
UID:event-6228@gw2community.de
URL:https://gw2community.de/calendar/event/30600-inneres-nayos-full-meta-ru
 n/
DTSTART:20240831T180000Z
DTSTAMP:20240831T180000Z
CREATED:20240831T180000Z
SUMMARY:Inneres Nayos - Full Meta Run
LOCATION:auf dem gw2ts.de
DTEND:20240831T190000Z
END:VEVENT
END:VCALENDAR
