BEGIN:VCALENDAR
METHOD:PUBLISH
VERSION:2.0
PRODID:-//WoltLab GmbH//WoltLab Suite Calendar 5.4//EN
CALSCALE:GREGORIAN
X-WR-CALNAME;VALUE=TEXT:Holt euch den „/Kaffeeschlürf“-Emote-Folianten mit 
 Twitch Drops
BEGIN:VEVENT
TRANSP:OPAQUE
UID:event-6234@gw2community.de
URL:https://gw2community.de/calendar/event/30606-holt-euch-den-kaffeeschl%C
 3%BCrf-emote-folianten-mit-twitch-drops/
DTSTART:20240820T160000Z
DTSTAMP:20240820T160000Z
CREATED:20240820T160000Z
SUMMARY:Holt euch den „/Kaffeeschlürf“-Emote-Folianten mit Twitch Drops
DESCRIPTION:Vom 20. bis zum 25. August könnt ihr euren bevorzugten Guild Wa
 rs 2-Streamern zusehen und dafür Belohnungen wie den Skin für Flauschige Qu
 aggan-Mütze\, den „Grüner Quaggan“-Rucksack-Bezug\, ein Mini-Tiergefährte-B
 ündel\, den „/Kaffeeschlürf“-Emote-Folianten und das kosmetische Piratenbün
 del erhalten. Seht insgesamt 10 Stunden zu\, um alles zu erhalten!
DTEND:20240825T065900Z
END:VEVENT
END:VCALENDAR
