BEGIN:VCALENDAR
METHOD:PUBLISH
VERSION:2.0
PRODID:-//WoltLab GmbH//WoltLab Suite Calendar 5.4//EN
CALSCALE:GREGORIAN
X-WR-CALNAME;VALUE=TEXT:Guild Wars 2: API wird von 16. bis 23. August abges
 chaltet
BEGIN:VEVENT
TRANSP:OPAQUE
UID:event-6235@gw2community.de
URL:https://gw2community.de/calendar/event/30607-guild-wars-2-api-wird-von-
 16-bis-23-august-abgeschaltet/
DTSTART:20240816T160000Z
DTSTAMP:20240816T160000Z
CREATED:20240816T160000Z
SUMMARY:Guild Wars 2: API wird von 16. bis 23. August abgeschaltet
DESCRIPTION:Hallo zusammen! Da die Veröffentlichung von Janthir Wilds unmit
 telbar bevorsteht\, werden wir die API ab morgen\, dem 16. August\, vorüber
 gehend deaktivieren. Wie schon bei früheren Erweiterungen wollen wir damit 
 verhindern\, dass Spoiler in die Öffentlichkeit gelangen. Wir werden die AP
 I am 23. August wieder aktivieren!
DTEND:20240823T160000Z
END:VEVENT
END:VCALENDAR
