BEGIN:VCALENDAR
METHOD:PUBLISH
VERSION:2.0
PRODID:-//WoltLab GmbH//WoltLab Suite Calendar 5.4//EN
CALSCALE:GREGORIAN
X-WR-CALNAME;VALUE=TEXT:Halloween-Festival „Schatten des Verrückten Königs“
BEGIN:VEVENT
TRANSP:OPAQUE
UID:event-6237@gw2community.de
URL:https://gw2community.de/calendar/event/30609-halloween-festival-schatte
 n-des-verr%C3%BCckten-k%C3%B6nigs/
DTSTART:20241015T160000Z
DTSTAMP:20241015T160000Z
CREATED:20241015T160000Z
SUMMARY:Halloween-Festival „Schatten des Verrückten Königs“
DESCRIPTION:15. Oktober bis 5. November: Halloween-Festival „Schatten des V
 errückten Königs“
DTEND:20241105T170000Z
END:VEVENT
END:VCALENDAR
