BEGIN:VCALENDAR
METHOD:PUBLISH
VERSION:2.0
PRODID:-//WoltLab GmbH//WoltLab Suite Calendar 5.4//EN
CALSCALE:GREGORIAN
X-WR-CALNAME;VALUE=TEXT:Bonus-Event „WvW-Ansturm“
BEGIN:VEVENT
TRANSP:OPAQUE
UID:event-6239@gw2community.de
URL:https://gw2community.de/calendar/event/30611-bonus-event-wvw-ansturm/
DTSTART:20240924T160000Z
DTSTAMP:20240924T160000Z
CREATED:20240924T160000Z
SUMMARY:Bonus-Event „WvW-Ansturm“
DESCRIPTION:24. September bis 1. Oktober: Bonus-Event „WvW-Ansturm“
DTEND:20241001T160000Z
END:VEVENT
END:VCALENDAR
