BEGIN:VCALENDAR
METHOD:PUBLISH
VERSION:2.0
PRODID:-//WoltLab GmbH//WoltLab Suite Calendar 5.4//EN
CALSCALE:GREGORIAN
X-WR-CALNAME;VALUE=TEXT:Bonus-Event „Rückkehr zu Path of Fire“
BEGIN:VEVENT
TRANSP:OPAQUE
UID:event-6240@gw2community.de
URL:https://gw2community.de/calendar/event/30612-bonus-event-r%C3%BCckkehr-
 zu-path-of-fire/
DTSTART:20240917T160000Z
DTSTAMP:20240917T160000Z
CREATED:20240917T160000Z
SUMMARY:Bonus-Event „Rückkehr zu Path of Fire“
DESCRIPTION:17. September bis 24. September: Bonus-Event „Rückkehr zu Path 
 of Fire“
DTEND:20240924T160000Z
END:VEVENT
END:VCALENDAR
