BEGIN:VCALENDAR
METHOD:PUBLISH
VERSION:2.0
PRODID:-//WoltLab GmbH//WoltLab Suite Calendar 5.4//EN
CALSCALE:GREGORIAN
X-WR-CALNAME;VALUE=TEXT:Bonus-Event „Fraktal-Ansturm“
BEGIN:VEVENT
TRANSP:OPAQUE
UID:event-6241@gw2community.de
URL:https://gw2community.de/calendar/event/30613-bonus-event-fraktal-anstur
 m/
DTSTART:20240910T160000Z
DTSTAMP:20240910T160000Z
CREATED:20240910T160000Z
SUMMARY:Bonus-Event „Fraktal-Ansturm“
DESCRIPTION:10. September bis 17. September: Bonus-Event „Fraktal-Ansturm“
DTEND:20240917T160000Z
END:VEVENT
END:VCALENDAR
