BEGIN:VCALENDAR
METHOD:PUBLISH
VERSION:2.0
PRODID:-//WoltLab GmbH//WoltLab Suite Calendar 5.4//EN
CALSCALE:GREGORIAN
X-WR-CALNAME;VALUE=TEXT:Das Beta-Event für „Vorstoß“
BEGIN:VEVENT
TRANSP:OPAQUE
UID:event-6271@gw2community.de
URL:https://gw2community.de/calendar/event/30643-das-beta-event-f%C3%BCr-vo
 rsto%C3%9F/
DTSTART:20240910T190000Z
DTSTAMP:20240910T190000Z
CREATED:20240910T190000Z
SUMMARY:Das Beta-Event für „Vorstoß“
DESCRIPTION:Das Beta-Event für „Vorstoß“ beginnt am Dienstag\, 10. Septembe
 r um 21:00 Uhr MESZ (12:00 Uhr PDT) und endet am Montag\, den 23. September
  um 02:00 Uhr MESZ (17:00 Uhr PDT des Vortags).
DTEND:20240924T000000Z
END:VEVENT
END:VCALENDAR
