BEGIN:VCALENDAR
METHOD:PUBLISH
VERSION:2.0
PRODID:-//WoltLab GmbH//WoltLab Suite Calendar 5.4//EN
CALSCALE:GREGORIAN
X-WR-CALNAME;VALUE=TEXT:Janthir Event-Jagd
BEGIN:VEVENT
TRANSP:OPAQUE
UID:event-6343@gw2community.de
URL:https://gw2community.de/calendar/event/30715-janthir-event-jagd/
DTSTART:20241123T180000Z
DTSTAMP:20241123T180000Z
CREATED:20241123T180000Z
SUMMARY:Janthir Event-Jagd
DTEND:20241123T200000Z
END:VEVENT
END:VCALENDAR
