BEGIN:VCALENDAR
METHOD:PUBLISH
VERSION:2.0
PRODID:-//WoltLab GmbH//WoltLab Suite Calendar 5.4//EN
CALSCALE:GREGORIAN
X-WR-CALNAME;VALUE=TEXT:Twitch Drops kommen am 19. November
BEGIN:VEVENT
TRANSP:OPAQUE
UID:event-6357@gw2community.de
URL:https://gw2community.de/calendar/event/30729-twitch-drops-kommen-am-19-
 november/
DTSTART:20241119T170000Z
DTSTAMP:20241119T170000Z
CREATED:20241119T170000Z
SUMMARY:Twitch Drops kommen am 19. November
DESCRIPTION:Von 19. bis 25. November solltet ihr eurem bevorzugten Guild Wa
 rs 2-Streamer zusehen\, um Belohnungen wie 5 Transmutation-Ladungen\, Skin 
 für Festlicher Hut\, Schneeflocken-Gleitschirm und Wintersonnenwende-Kleidu
 ngsset zu erhalten. Seht insgesamt 7 Stunden zu\, um alles zu erhalten!
DTEND:20241124T170000Z
END:VEVENT
END:VCALENDAR
