BEGIN:VCALENDAR
METHOD:PUBLISH
VERSION:2.0
PRODID:-//WoltLab GmbH//WoltLab Suite Calendar 5.4//EN
CALSCALE:GREGORIAN
X-WR-CALNAME;VALUE=TEXT:Map Clear: Provinze Seitung(EoD)
BEGIN:VEVENT
TRANSP:OPAQUE
UID:event-6405@gw2community.de
URL:https://gw2community.de/calendar/event/30777-map-clear-provinze-seitung
 -eod/
DTSTART:20250108T150000Z
DTSTAMP:20250108T150000Z
CREATED:20250108T150000Z
SUMMARY:Map Clear: Provinze Seitung(EoD)
LOCATION:auf dem gw2ts.de
DTEND:20250108T170000Z
END:VEVENT
END:VCALENDAR
