BEGIN:VCALENDAR
METHOD:PUBLISH
VERSION:2.0
PRODID:-//WoltLab GmbH//WoltLab Suite Calendar 5.4//EN
CALSCALE:GREGORIAN
X-WR-CALNAME;VALUE=TEXT:Map Clear: Janthir Syntri (JTW)
BEGIN:VEVENT
TRANSP:OPAQUE
UID:event-6447@gw2community.de
URL:https://gw2community.de/calendar/event/30819-map-clear-janthir-syntri-j
 tw/
DTSTART:20250226T150000Z
DTSTAMP:20250226T150000Z
CREATED:20250226T150000Z
SUMMARY:Map Clear: Janthir Syntri (JTW)
LOCATION:auf dem gw2ts.de
DTEND:20250226T170000Z
END:VEVENT
END:VCALENDAR
