BEGIN:VCALENDAR
METHOD:PUBLISH
VERSION:2.0
PRODID:-//WoltLab GmbH//WoltLab Suite Calendar 5.4//EN
CALSCALE:GREGORIAN
X-WR-CALNAME;VALUE=TEXT:Map Clear: Provinze Seitung(EoD)
BEGIN:VEVENT
TRANSP:OPAQUE
UID:event-6498@gw2community.de
URL:https://gw2community.de/calendar/event/30870-map-clear-provinze-seitung
 -eod/
DTSTART:20250430T140000Z
DTSTAMP:20250430T140000Z
CREATED:20250430T140000Z
SUMMARY:Map Clear: Provinze Seitung(EoD)
LOCATION:auf dem gw2ts.de
DTEND:20250430T160000Z
END:VEVENT
END:VCALENDAR
