BEGIN:VCALENDAR
METHOD:PUBLISH
VERSION:2.0
PRODID:-//WoltLab GmbH//WoltLab Suite Calendar 5.4//EN
CALSCALE:GREGORIAN
X-WR-CALNAME;VALUE=TEXT:Ostereier suche im Forum
BEGIN:VEVENT
TRANSP:OPAQUE
UID:event-6502@gw2community.de
URL:https://gw2community.de/calendar/event/30874-ostereier-suche-im-forum/
DTSTART:20250413T220000Z
DTSTAMP:20250413T220000Z
CREATED:20250413T220000Z
SUMMARY:Ostereier suche im Forum
DTEND:20250422T215900Z
END:VEVENT
END:VCALENDAR
