BEGIN:VCALENDAR
METHOD:PUBLISH
VERSION:2.0
PRODID:-//WoltLab GmbH//WoltLab Suite Calendar 5.4//EN
CALSCALE:GREGORIAN
X-WR-CALNAME;VALUE=TEXT:Map Clear: Himmelswacht-Archipel (SotO)
BEGIN:VEVENT
TRANSP:OPAQUE
UID:event-6519@gw2community.de
URL:https://gw2community.de/calendar/event/30891-map-clear-himmelswacht-arc
 hipel-soto/
DTSTART:20250528T140000Z
DTSTAMP:20250528T140000Z
CREATED:20250528T140000Z
SUMMARY:Map Clear: Himmelswacht-Archipel (SotO)
LOCATION:auf dem gw2ts.de
DTEND:20250528T160000Z
END:VEVENT
END:VCALENDAR
