BEGIN:VCALENDAR
METHOD:PUBLISH
VERSION:2.0
PRODID:-//WoltLab GmbH//WoltLab Suite Calendar 5.4//EN
CALSCALE:GREGORIAN
X-WR-CALNAME;VALUE=TEXT:[Geburtstag] Silberwüste
BEGIN:VEVENT
TRANSP:OPAQUE
UID:event-6524@gw2community.de
URL:https://gw2community.de/calendar/event/30896-geburtstag-silberw%C3%BCst
 e/
DTSTART:20250501T163000Z
DTSTAMP:20250501T163000Z
CREATED:20250501T163000Z
SUMMARY:[Geburtstag] Silberwüste
DESCRIPTION:Feiert mit uns den Geburtstag der GW2Community!
DTEND:20250501T180000Z
END:VEVENT
END:VCALENDAR
