BEGIN:VCALENDAR
METHOD:PUBLISH
VERSION:2.0
PRODID:-//WoltLab GmbH//WoltLab Suite Calendar 5.4//EN
CALSCALE:GREGORIAN
X-WR-CALNAME;VALUE=TEXT:[Geburtstag] Geburtstagsquiz – Tag 1
BEGIN:VEVENT
TRANSP:TRANSPARENT
UID:event-6525@gw2community.de
URL:https://gw2community.de/calendar/event/30897-geburtstag-geburtstagsquiz
 -tag-1/
DTSTART;VALUE=DATE:20250502
DTSTAMP:20250502T000000Z
CREATED:20250502T000000Z
SUMMARY:[Geburtstag] Geburtstagsquiz – Tag 1
DESCRIPTION:Feiert mit uns den Geburtstag der GW2Community!
DTEND;VALUE=DATE:20250503
END:VEVENT
END:VCALENDAR
