BEGIN:VCALENDAR
METHOD:PUBLISH
VERSION:2.0
PRODID:-//WoltLab GmbH//WoltLab Suite Calendar 5.4//EN
CALSCALE:GREGORIAN
X-WR-CALNAME;VALUE=TEXT:[Geburtstag] Geburtstagsquiz – Tag 2
BEGIN:VEVENT
TRANSP:TRANSPARENT
UID:event-6526@gw2community.de
URL:https://gw2community.de/calendar/event/30898-geburtstag-geburtstagsquiz
 -tag-2/
DTSTART;VALUE=DATE:20250503
DTSTAMP:20250503T000000Z
CREATED:20250503T000000Z
SUMMARY:[Geburtstag] Geburtstagsquiz – Tag 2
DESCRIPTION:Feiert mit uns den Geburtstag der GW2Community!
DTEND;VALUE=DATE:20250504
END:VEVENT
END:VCALENDAR
