BEGIN:VCALENDAR
METHOD:PUBLISH
VERSION:2.0
PRODID:-//WoltLab GmbH//WoltLab Suite Calendar 5.4//EN
CALSCALE:GREGORIAN
X-WR-CALNAME;VALUE=TEXT:[Geburtstag] Geburtstagsquiz – Tag 3
BEGIN:VEVENT
TRANSP:TRANSPARENT
UID:event-6527@gw2community.de
URL:https://gw2community.de/calendar/event/30899-geburtstag-geburtstagsquiz
 -tag-3/
DTSTART;VALUE=DATE:20250504
DTSTAMP:20250504T000000Z
CREATED:20250504T000000Z
SUMMARY:[Geburtstag] Geburtstagsquiz – Tag 3
DESCRIPTION:Feiert mit uns den Geburtstag der GW2Community!
DTEND;VALUE=DATE:20250505
END:VEVENT
END:VCALENDAR
