BEGIN:VCALENDAR
METHOD:PUBLISH
VERSION:2.0
PRODID:-//WoltLab GmbH//WoltLab Suite Calendar 5.4//EN
CALSCALE:GREGORIAN
X-WR-CALNAME;VALUE=TEXT:Map Clear: Wüsten-Hochland (PoF)
BEGIN:VEVENT
TRANSP:OPAQUE
UID:event-6547@gw2community.de
URL:https://gw2community.de/calendar/event/30919-map-clear-w%C3%BCsten-hoch
 land-pof/
DTSTART:20250709T140000Z
DTSTAMP:20250709T140000Z
CREATED:20250709T140000Z
SUMMARY:Map Clear: Wüsten-Hochland (PoF)
DTEND:20250709T163000Z
END:VEVENT
END:VCALENDAR
