BEGIN:VCALENDAR
METHOD:PUBLISH
VERSION:2.0
PRODID:-//WoltLab GmbH//WoltLab Suite Calendar 5.4//EN
CALSCALE:GREGORIAN
X-WR-CALNAME;VALUE=TEXT:Map Clear: Elon-Flusslande (PoF)
BEGIN:VEVENT
TRANSP:OPAQUE
UID:event-6551@gw2community.de
URL:https://gw2community.de/calendar/event/30950-map-clear-elon-flusslande-
 pof/
DTSTART:20250716T140000Z
DTSTAMP:20250716T140000Z
CREATED:20250716T140000Z
SUMMARY:Map Clear: Elon-Flusslande (PoF)
DTEND:20250716T160000Z
END:VEVENT
END:VCALENDAR
