BEGIN:VCALENDAR
METHOD:PUBLISH
VERSION:2.0
PRODID:-//WoltLab GmbH//WoltLab Suite Calendar 5.4//EN
CALSCALE:GREGORIAN
X-WR-CALNAME;VALUE=TEXT:Map Clear: Domäne Vaabi (PoF)
BEGIN:VEVENT
TRANSP:OPAQUE
UID:event-6553@gw2community.de
URL:https://gw2community.de/calendar/event/30952-map-clear-dom%C3%A4ne-vaab
 i-pof/
DTSTART:20250730T140000Z
DTSTAMP:20250730T140000Z
CREATED:20250730T140000Z
SUMMARY:Map Clear: Domäne Vaabi (PoF)
DTEND:20250730T150000Z
END:VEVENT
END:VCALENDAR
