BEGIN:VCALENDAR
METHOD:PUBLISH
VERSION:2.0
PRODID:-//WoltLab GmbH//WoltLab Suite Calendar 5.4//EN
CALSCALE:GREGORIAN
X-WR-CALNAME;VALUE=TEXT:Map Clear: Stadt Neu-Kaineng (EoD)
BEGIN:VEVENT
TRANSP:OPAQUE
UID:event-6554@gw2community.de
URL:https://gw2community.de/calendar/event/30953-map-clear-stadt-neu-kainen
 g-eod/
DTSTART:20250813T140000Z
DTSTAMP:20250813T140000Z
CREATED:20250813T140000Z
SUMMARY:Map Clear: Stadt Neu-Kaineng (EoD)
DTEND:20250813T160000Z
END:VEVENT
END:VCALENDAR
