BEGIN:VCALENDAR
METHOD:PUBLISH
VERSION:2.0
PRODID:-//WoltLab GmbH//WoltLab Suite Calendar 5.4//EN
CALSCALE:GREGORIAN
X-WR-CALNAME;VALUE=TEXT:Map Clear: Drachenende (EoD)
BEGIN:VEVENT
TRANSP:OPAQUE
UID:event-6556@gw2community.de
URL:https://gw2community.de/calendar/event/30964-map-clear-drachenende-eod/
DTSTART:20250827T140000Z
DTSTAMP:20250827T140000Z
CREATED:20250827T140000Z
SUMMARY:Map Clear: Drachenende (EoD)
DTEND:20250827T160000Z
RRULE:FREQ=WEEKLY;INTERVAL=14;BYDAY=WE;WKST=MO;COUNT=10
END:VEVENT
END:VCALENDAR
