BEGIN:VCALENDAR
METHOD:PUBLISH
VERSION:2.0
PRODID:-//WoltLab GmbH//WoltLab Suite Calendar 5.4//EN
CALSCALE:GREGORIAN
X-WR-CALNAME;VALUE=TEXT:Map Clear: Himmelswacht-Archipel (SotO)
BEGIN:VEVENT
TRANSP:OPAQUE
UID:event-6557@gw2community.de
URL:https://gw2community.de/calendar/event/31004-map-clear-himmelswacht-arc
 hipel-soto/
DTSTART:20250903T140000Z
DTSTAMP:20250903T140000Z
CREATED:20250903T140000Z
SUMMARY:Map Clear: Himmelswacht-Archipel (SotO)
DTEND:20250903T160000Z
RRULE:FREQ=WEEKLY;INTERVAL=14;BYDAY=WE;WKST=MO;COUNT=10
END:VEVENT
END:VCALENDAR
