BEGIN:VCALENDAR
METHOD:PUBLISH
VERSION:2.0
PRODID:-//WoltLab GmbH//WoltLab Suite Calendar 5.4//EN
CALSCALE:GREGORIAN
X-WR-CALNAME;VALUE=TEXT:Map Clear: Kristalloase (PoF)
BEGIN:VEVENT
TRANSP:OPAQUE
UID:event-6562@gw2community.de
URL:https://gw2community.de/calendar/event/31063-map-clear-kristalloase-pof
 /
DTSTART:20251008T140000Z
DTSTAMP:20251008T140000Z
CREATED:20251008T140000Z
SUMMARY:Map Clear: Kristalloase (PoF)
DTEND:20251008T160000Z
RRULE:FREQ=WEEKLY;INTERVAL=14;BYDAY=WE;WKST=MO;COUNT=10
END:VEVENT
END:VCALENDAR
