BEGIN:VCALENDAR
METHOD:PUBLISH
VERSION:2.0
PRODID:-//WoltLab GmbH//WoltLab Suite Calendar 5.4//EN
CALSCALE:GREGORIAN
X-WR-CALNAME;VALUE=TEXT:Map Clear: Wüsten-Hochland (PoF)
BEGIN:VEVENT
TRANSP:OPAQUE
UID:event-6563@gw2community.de
URL:https://gw2community.de/calendar/event/31073-map-clear-w%C3%BCsten-hoch
 land-pof/
DTSTART:20251015T140000Z
DTSTAMP:20251015T140000Z
CREATED:20251015T140000Z
SUMMARY:Map Clear: Wüsten-Hochland (PoF)
DTEND:20251015T160000Z
RRULE:FREQ=WEEKLY;INTERVAL=14;BYDAY=WE;WKST=MO;COUNT=10
END:VEVENT
END:VCALENDAR
