BEGIN:VCALENDAR
METHOD:PUBLISH
VERSION:2.0
PRODID:-//WoltLab GmbH//WoltLab Suite Calendar 5.4//EN
CALSCALE:GREGORIAN
X-WR-CALNAME;VALUE=TEXT:Map Clear: Elon-Flusslande (PoF)
BEGIN:VEVENT
TRANSP:OPAQUE
UID:event-6564@gw2community.de
URL:https://gw2community.de/calendar/event/31083-map-clear-elon-flusslande-
 pof/
DTSTART:20251022T140000Z
DTSTAMP:20251022T140000Z
CREATED:20251022T140000Z
SUMMARY:Map Clear: Elon-Flusslande (PoF)
DTEND:20251022T160000Z
RRULE:FREQ=WEEKLY;INTERVAL=14;BYDAY=WE;WKST=MO;COUNT=10
END:VEVENT
END:VCALENDAR
