BEGIN:VCALENDAR
METHOD:PUBLISH
VERSION:2.0
PRODID:-//WoltLab GmbH//WoltLab Suite Calendar 5.4//EN
CALSCALE:GREGORIAN
X-WR-CALNAME;VALUE=TEXT:Map Clear: Ödland (PoF)
BEGIN:VEVENT
TRANSP:OPAQUE
UID:event-6565@gw2community.de
URL:https://gw2community.de/calendar/event/32987-map-clear-%C3%B6dland-pof/
DTSTART:20251029T150000Z
DTSTAMP:20251029T150000Z
CREATED:20251029T150000Z
SUMMARY:Map Clear: Ödland (PoF)
DTEND:20251029T170000Z
RRULE:FREQ=WEEKLY;INTERVAL=14;BYDAY=WE;WKST=MO
END:VEVENT
END:VCALENDAR
