BEGIN:VCALENDAR
METHOD:PUBLISH
VERSION:2.0
PRODID:-//WoltLab GmbH//WoltLab Suite Calendar 5.4//EN
CALSCALE:GREGORIAN
X-WR-CALNAME;VALUE=TEXT:Map Clear: Provinze Seitung(EoD)
BEGIN:VEVENT
TRANSP:OPAQUE
UID:event-6567@gw2community.de
URL:https://gw2community.de/calendar/event/33124-map-clear-provinze-seitung
 -eod/
DTSTART:20251112T150000Z
DTSTAMP:20251112T150000Z
CREATED:20251112T150000Z
SUMMARY:Map Clear: Provinze Seitung(EoD)
DTEND:20251112T170000Z
RRULE:FREQ=WEEKLY;INTERVAL=14;BYDAY=WE;WKST=MO
END:VEVENT
END:VCALENDAR
