BEGIN:VCALENDAR
METHOD:PUBLISH
VERSION:2.0
PRODID:-//WoltLab GmbH//WoltLab Suite Calendar 5.4//EN
CALSCALE:GREGORIAN
X-WR-CALNAME;VALUE=TEXT:Map Clear: Stadt Neu-Kaineng(EoD)
BEGIN:VEVENT
TRANSP:OPAQUE
UID:event-6568@gw2community.de
URL:https://gw2community.de/calendar/event/33170-map-clear-stadt-neu-kainen
 g-eod/
DTSTART:20251119T150000Z
DTSTAMP:20251119T150000Z
CREATED:20251119T150000Z
SUMMARY:Map Clear: Stadt Neu-Kaineng(EoD)
DTEND:20251119T170000Z
RRULE:FREQ=WEEKLY;INTERVAL=14;BYDAY=WE;WKST=MO
END:VEVENT
END:VCALENDAR
