BEGIN:VCALENDAR
METHOD:PUBLISH
VERSION:2.0
PRODID:-//WoltLab GmbH//WoltLab Suite Calendar 5.4//EN
CALSCALE:GREGORIAN
X-WR-CALNAME;VALUE=TEXT:Visions of Eternity: Gemeinsames Erkunden der neuen
  Erweiterung
BEGIN:VEVENT
TRANSP:OPAQUE
UID:event-6569@gw2community.de
URL:https://gw2community.de/calendar/event/33216-visions-of-eternity-gemein
 sames-erkunden-der-neuen-erweiterung/
DTSTART:20251029T170000Z
DTSTAMP:20251029T170000Z
CREATED:20251029T170000Z
SUMMARY:Visions of Eternity: Gemeinsames Erkunden der neuen Erweiterung
DTEND:20251029T220000Z
END:VEVENT
END:VCALENDAR
