BEGIN:VCALENDAR
METHOD:PUBLISH
VERSION:2.0
PRODID:-//WoltLab GmbH//WoltLab Suite Calendar 5.4//EN
CALSCALE:GREGORIAN
X-WR-CALNAME;VALUE=TEXT:Events in Castora
BEGIN:VEVENT
TRANSP:OPAQUE
UID:event-6572@gw2community.de
URL:https://gw2community.de/calendar/event/33219-events-in-castora/
DTSTART:20251113T163000Z
DTSTAMP:20251113T163000Z
CREATED:20251113T163000Z
SUMMARY:Events in Castora
DESCRIPTION:Macht die Taschen leer für ordentlich Loot.\n\nWir machen mit e
 uch Events am Stück auf beiden Karten.
LOCATION:gw2ts.de
DTEND:20251113T200000Z
END:VEVENT
END:VCALENDAR
