BEGIN:VCALENDAR
METHOD:PUBLISH
VERSION:2.0
PRODID:-//WoltLab GmbH//WoltLab Suite Calendar 5.4//EN
CALSCALE:GREGORIAN
X-WR-CALNAME;VALUE=TEXT:🎉 Canthan New Year
BEGIN:VEVENT
TRANSP:OPAQUE
UID:event-6574@gw2community.de
URL:https://gw2community.de/calendar/event/33221-canthan-new-year/
DTSTART:20260131T200000Z
DTSTAMP:20260131T200000Z
CREATED:20260131T200000Z
SUMMARY:🎉 Canthan New Year
DESCRIPTION:Activities: Quests\, Boardwalk\, Dragon Arena\, Rollerbeetle Ra
 cing\; Drops: Lunar Tokens
DTEND:20260207T200000Z
RRULE:FREQ=YEARLY;INTERVAL=1;BYMONTHDAY=31;BYMONTH=1;WKST=MO
END:VEVENT
END:VCALENDAR
