BEGIN:VCALENDAR
METHOD:PUBLISH
VERSION:2.0
PRODID:-//WoltLab GmbH//WoltLab Suite Calendar 5.4//EN
CALSCALE:GREGORIAN
X-WR-CALNAME;VALUE=TEXT:🎉 Canthan New Year Finale 🎉
BEGIN:VEVENT
TRANSP:OPAQUE
UID:event-6575@gw2community.de
URL:https://gw2community.de/calendar/event/33233-canthan-new-year-finale/
DTSTART:20260206T080100Z
DTSTAMP:20260206T080100Z
CREATED:20260206T080100Z
SUMMARY:🎉 Canthan New Year Finale 🎉
DESCRIPTION:Finale: Every 3 hours for 27 hours\; Hat/Mini Stop: Feb 14\, 20
 :00 UTC
DTEND:20260207T080100Z
RRULE:FREQ=YEARLY;INTERVAL=1;BYMONTHDAY=6;BYMONTH=2;WKST=MO
END:VEVENT
END:VCALENDAR
