BEGIN:VCALENDAR
METHOD:PUBLISH
VERSION:2.0
PRODID:-//WoltLab GmbH//WoltLab Suite Calendar 5.4//EN
CALSCALE:GREGORIAN
X-WR-CALNAME;VALUE=TEXT:❄️ Wintersday in July
BEGIN:VEVENT
TRANSP:OPAQUE
UID:event-6582@gw2community.de
URL:https://gw2community.de/calendar/event/33317-wintersday-in-july/
DTSTART:20260724T190000Z
DTSTAMP:20260724T190000Z
CREATED:20260724T190000Z
SUMMARY:❄️ Wintersday in July
DESCRIPTION:Activities: Dwayna Vs Grenth\; Drops: Eggnog\, Frosty Tonic\, F
 ruitcake\, Mischievous Tonic\, Snowman Summoner
DTEND:20260731T190000Z
RRULE:FREQ=YEARLY;INTERVAL=1;BYMONTHDAY=24;BYMONTH=7;WKST=MO
END:VEVENT
END:VCALENDAR
