BEGIN:VCALENDAR
METHOD:PUBLISH
VERSION:2.0
PRODID:-//WoltLab GmbH//WoltLab Suite Calendar 5.4//EN
CALSCALE:GREGORIAN
X-WR-CALNAME;VALUE=TEXT:🧭 Wayfarer's Reverie
BEGIN:VEVENT
TRANSP:OPAQUE
UID:event-6583@gw2community.de
URL:https://gw2community.de/calendar/event/33329-wayfarer-s-reverie/
DTSTART:20260825T190000Z
DTSTAMP:20260825T190000Z
CREATED:20260825T190000Z
SUMMARY:🧭 Wayfarer's Reverie
DESCRIPTION:Activities: Quests\; Elonian Support Bonus\, Extra Luck Bonus\,
  Faction Support Bonus\, Northern Support Bonus\; Drops: Wayfarer's Mark\; 
 Hat/Mini Stop: Sep 8\, 19:00 UTC
DTEND:20260901T190000Z
RRULE:FREQ=YEARLY;INTERVAL=1;BYMONTHDAY=25;BYMONTH=8;WKST=MO
END:VEVENT
END:VCALENDAR
