BEGIN:VCALENDAR
METHOD:PUBLISH
VERSION:2.0
PRODID:-//WoltLab GmbH//WoltLab Suite Calendar 5.4//EN
CALSCALE:GREGORIAN
X-WR-CALNAME;VALUE=TEXT:🏴‍☠️ Pirate Week
BEGIN:VEVENT
TRANSP:OPAQUE
UID:event-6584@gw2community.de
URL:https://gw2community.de/calendar/event/33341-pirate-week/
DTSTART:20260913T190000Z
DTSTAMP:20260913T190000Z
CREATED:20260913T190000Z
SUMMARY:🏴‍☠️ Pirate Week
DESCRIPTION:Drops: Bottle of Grog
DTEND:20260920T190000Z
RRULE:FREQ=YEARLY;INTERVAL=1;BYMONTHDAY=13;BYMONTH=9;WKST=MO
END:VEVENT
END:VCALENDAR
