BEGIN:VCALENDAR
METHOD:PUBLISH
VERSION:2.0
PRODID:-//WoltLab GmbH//WoltLab Suite Calendar 5.4//EN
CALSCALE:GREGORIAN
X-WR-CALNAME;VALUE=TEXT:🎗️ Breast Cancer Awareness Month
BEGIN:VEVENT
TRANSP:OPAQUE
UID:event-6585@gw2community.de
URL:https://gw2community.de/calendar/event/33353-breast-cancer-awareness-mo
 nth/
DTSTART:20261001T070100Z
DTSTAMP:20261001T070100Z
CREATED:20261001T070100Z
SUMMARY:🎗️ Breast Cancer Awareness Month
DESCRIPTION:Activities: Pink dye Merchant
DTEND:20261101T080100Z
RRULE:FREQ=YEARLY;INTERVAL=1;BYMONTHDAY=1;BYMONTH=10;WKST=MO
END:VEVENT
END:VCALENDAR
