BEGIN:VCALENDAR
METHOD:PUBLISH
VERSION:2.0
PRODID:-//WoltLab GmbH//WoltLab Suite Calendar 5.4//EN
CALSCALE:GREGORIAN
X-WR-CALNAME;VALUE=TEXT:🎃 Halloween
BEGIN:VEVENT
TRANSP:OPAQUE
UID:event-6586@gw2community.de
URL:https://gw2community.de/calendar/event/33365-halloween/
DTSTART:20261018T190000Z
DTSTAMP:20261018T190000Z
CREATED:20261018T190000Z
SUMMARY:🎃 Halloween
DESCRIPTION:Activities: Quests\, Costume Brawl\, Scarred Psyche\, Halloween
  trophy collectors\; Drops: Trick-or-Treat Bags
DTEND:20261102T080100Z
RRULE:FREQ=YEARLY;INTERVAL=1;BYMONTHDAY=18;BYMONTH=10;WKST=MO
END:VEVENT
END:VCALENDAR
