BEGIN:VCALENDAR
METHOD:PUBLISH
VERSION:2.0
PRODID:-//WoltLab GmbH//WoltLab Suite Calendar 5.4//EN
CALSCALE:GREGORIAN
X-WR-CALNAME;VALUE=TEXT:🎃 Halloween Finale 🎃
BEGIN:VEVENT
TRANSP:OPAQUE
UID:event-6587@gw2community.de
URL:https://gw2community.de/calendar/event/33377-halloween-finale/
DTSTART:20261031T070100Z
DTSTAMP:20261031T070100Z
CREATED:20261031T070100Z
SUMMARY:🎃 Halloween Finale 🎃
DESCRIPTION:Finale: Every 3 hours for 27 hours\, Hat/Mini Stop: Nov 8\, 20:
 00 UTC
DTEND:20261101T070100Z
RRULE:FREQ=YEARLY;INTERVAL=1;BYMONTHDAY=31;BYMONTH=10;WKST=MO
END:VEVENT
END:VCALENDAR
