BEGIN:VCALENDAR
METHOD:PUBLISH
VERSION:2.0
PRODID:-//WoltLab GmbH//WoltLab Suite Calendar 5.4//EN
CALSCALE:GREGORIAN
X-WR-CALNAME;VALUE=TEXT:🥧 Special Treats Week
BEGIN:VEVENT
TRANSP:OPAQUE
UID:event-6588@gw2community.de
URL:https://gw2community.de/calendar/event/33389-special-treats-week/
DTSTART:20261121T200000Z
DTSTAMP:20261121T200000Z
CREATED:20261121T200000Z
SUMMARY:🥧 Special Treats Week
DESCRIPTION:Drops: Hard Apple Cider\, Slice of Pumpkin Pie.
DTEND:20261128T200000Z
RRULE:FREQ=YEARLY;INTERVAL=1;BYMONTHDAY=21;BYMONTH=11;WKST=MO
END:VEVENT
END:VCALENDAR
