BEGIN:VCALENDAR
METHOD:PUBLISH
VERSION:2.0
PRODID:-//WoltLab GmbH//WoltLab Suite Calendar 5.4//EN
CALSCALE:GREGORIAN
X-WR-CALNAME;VALUE=TEXT:🎄 Wintersday
BEGIN:VEVENT
TRANSP:OPAQUE
UID:event-6589@gw2community.de
URL:https://gw2community.de/calendar/event/33401-wintersday/
DTSTART:20261219T200000Z
DTSTAMP:20261219T200000Z
CREATED:20261219T200000Z
SUMMARY:🎄 Wintersday
DESCRIPTION:Activities: Quests\, Dwayna Vs Grenth\, The Great Snowball Figh
 t\, Wintersday trophy collectors\; Drops: Candy Cane Shard\, Eggnog\, Frost
 y Tonic\, Fruitcake\, Mischievous Tonic\, Snowman Summoner
DTEND:20270102T200000Z
RRULE:FREQ=YEARLY;INTERVAL=1;BYMONTHDAY=19;BYMONTH=12;WKST=MO
END:VEVENT
END:VCALENDAR
