BEGIN:VCALENDAR
METHOD:PUBLISH
VERSION:2.0
PRODID:-//WoltLab GmbH//WoltLab Suite Calendar 5.4//EN
CALSCALE:GREGORIAN
X-WR-CALNAME;VALUE=TEXT:🎄 Wintersday Finale 🎄
BEGIN:VEVENT
TRANSP:OPAQUE
UID:event-6590@gw2community.de
URL:https://gw2community.de/calendar/event/33413-wintersday-finale/
DTSTART:20270101T080100Z
DTSTAMP:20270101T080100Z
CREATED:20270101T080100Z
SUMMARY:🎄 Wintersday Finale 🎄
DESCRIPTION:Finale: Every 3 hours for 27 hours\, Hat/Mini Stop: Jan 9\, 20:
 00 UTC
DTEND:20270102T080100Z
RRULE:FREQ=YEARLY;INTERVAL=1;BYMONTHDAY=1;BYMONTH=12;WKST=MO
END:VEVENT
END:VCALENDAR
